BEGIN:VCALENDAR
VERSION:2.0
PRODID:-//West Yellowstone Public Library - ECPv6.15.20//NONSGML v1.0//EN
CALSCALE:GREGORIAN
METHOD:PUBLISH
X-WR-CALNAME:West Yellowstone Public Library
X-ORIGINAL-URL:https://westyellowstonepubliclibrary.org
X-WR-CALDESC:Events for West Yellowstone Public Library
REFRESH-INTERVAL;VALUE=DURATION:PT1H
X-Robots-Tag:noindex
X-PUBLISHED-TTL:PT1H
BEGIN:VTIMEZONE
TZID:America/Denver
BEGIN:DAYLIGHT
TZOFFSETFROM:-0700
TZOFFSETTO:-0600
TZNAME:MDT
DTSTART:20250309T090000
END:DAYLIGHT
BEGIN:STANDARD
TZOFFSETFROM:-0600
TZOFFSETTO:-0700
TZNAME:MST
DTSTART:20251102T080000
END:STANDARD
BEGIN:DAYLIGHT
TZOFFSETFROM:-0700
TZOFFSETTO:-0600
TZNAME:MDT
DTSTART:20260308T090000
END:DAYLIGHT
BEGIN:STANDARD
TZOFFSETFROM:-0600
TZOFFSETTO:-0700
TZNAME:MST
DTSTART:20261101T080000
END:STANDARD
BEGIN:DAYLIGHT
TZOFFSETFROM:-0700
TZOFFSETTO:-0600
TZNAME:MDT
DTSTART:20270314T090000
END:DAYLIGHT
BEGIN:STANDARD
TZOFFSETFROM:-0600
TZOFFSETTO:-0700
TZNAME:MST
DTSTART:20271107T080000
END:STANDARD
END:VTIMEZONE
BEGIN:VEVENT
DTSTART;TZID=America/Denver:20260501T153000
DTEND;TZID=America/Denver:20260501T180000
DTSTAMP:20260421T073245
CREATED:20260328T163015Z
LAST-MODIFIED:20260328T163015Z
UID:9732-1777649400-1777658400@westyellowstonepubliclibrary.org
SUMMARY:Board Game Meetup
DESCRIPTION:Join a friendly\, fun-loving community to play board and card games at the library! \nNo experience is necessary. We have chess sets and board games provided\, but feel free to bring in some favorites to share with others! Meet new friends\, socialize\, and learn new games from 3:30-6:00pm.
URL:https://westyellowstonepubliclibrary.org/event/board-game-meetup-90/
LOCATION:West Yellowstone Public Library\, 23 Dunraven Street\, West Yellowstone\, MT\, 59758\, United States
CATEGORIES:Adult Events,Games,Kids Events,Teen Events
END:VEVENT
BEGIN:VEVENT
DTSTART;TZID=America/Denver:20260508T153000
DTEND;TZID=America/Denver:20260508T180000
DTSTAMP:20260421T073245
CREATED:20260328T163131Z
LAST-MODIFIED:20260328T163131Z
UID:9734-1778254200-1778263200@westyellowstonepubliclibrary.org
SUMMARY:Board Game Meetup
DESCRIPTION:Join a friendly\, fun-loving community to play board and card games at the library! \nNo experience is necessary. We have chess sets and board games provided\, but feel free to bring in some favorites to share with others! Meet new friends\, socialize\, and learn new games from 3:30-6:00pm.
URL:https://westyellowstonepubliclibrary.org/event/board-game-meetup-91/
LOCATION:West Yellowstone Public Library\, 23 Dunraven Street\, West Yellowstone\, MT\, 59758\, United States
CATEGORIES:Adult Events,Games,Kids Events,Teen Events
END:VEVENT
BEGIN:VEVENT
DTSTART;TZID=America/Denver:20260515T080000
DTEND;TZID=America/Denver:20260515T170000
DTSTAMP:20260421T073245
CREATED:20260328T163205Z
LAST-MODIFIED:20260328T163205Z
UID:9736-1778832000-1778864400@westyellowstonepubliclibrary.org
SUMMARY:Board Game Meetup
DESCRIPTION:Join a friendly\, fun-loving community to play board and card games at the library! \nNo experience is necessary. We have chess sets and board games provided\, but feel free to bring in some favorites to share with others! Meet new friends\, socialize\, and learn new games from 3:30-6:00pm.
URL:https://westyellowstonepubliclibrary.org/event/board-game-meetup-92/
LOCATION:West Yellowstone Public Library\, 23 Dunraven Street\, West Yellowstone\, MT\, 59758\, United States
CATEGORIES:Adult Events,Games,Kids Events,Teen Events
END:VEVENT
BEGIN:VEVENT
DTSTART;TZID=America/Denver:20260522T153000
DTEND;TZID=America/Denver:20260522T180000
DTSTAMP:20260421T073245
CREATED:20260328T163248Z
LAST-MODIFIED:20260328T163248Z
UID:9738-1779463800-1779472800@westyellowstonepubliclibrary.org
SUMMARY:Board Game Meetup
DESCRIPTION:Join a friendly\, fun-loving community to play board and card games at the library! \nNo experience is necessary. We have chess sets and board games provided\, but feel free to bring in some favorites to share with others! Meet new friends\, socialize\, and learn new games from 3:30-6:00pm.
URL:https://westyellowstonepubliclibrary.org/event/board-game-meetup-93/
LOCATION:West Yellowstone Public Library\, 23 Dunraven Street\, West Yellowstone\, MT\, 59758\, United States
CATEGORIES:Adult Events,Games,Kids Events,Teen Events
END:VEVENT
BEGIN:VEVENT
DTSTART;TZID=America/Denver:20260529T153000
DTEND;TZID=America/Denver:20260529T180000
DTSTAMP:20260421T073245
CREATED:20260328T163327Z
LAST-MODIFIED:20260328T163327Z
UID:9740-1780068600-1780077600@westyellowstonepubliclibrary.org
SUMMARY:Board Game Meetup
DESCRIPTION:Join a friendly\, fun-loving community to play board and card games at the library! \nNo experience is necessary. We have chess sets and board games provided\, but feel free to bring in some favorites to share with others! Meet new friends\, socialize\, and learn new games from 3:30-6:00pm.
URL:https://westyellowstonepubliclibrary.org/event/board-game-meetup-94/
LOCATION:West Yellowstone Public Library\, 23 Dunraven Street\, West Yellowstone\, MT\, 59758\, United States
CATEGORIES:Adult Events,Games,Kids Events,Teen Events
END:VEVENT
END:VCALENDAR