BEGIN:VCALENDAR
VERSION:2.0
PRODID:-//West Yellowstone Public Library - ECPv6.15.20//NONSGML v1.0//EN
CALSCALE:GREGORIAN
METHOD:PUBLISH
X-ORIGINAL-URL:https://westyellowstonepubliclibrary.org
X-WR-CALDESC:Events for West Yellowstone Public Library
REFRESH-INTERVAL;VALUE=DURATION:PT1H
X-Robots-Tag:noindex
X-PUBLISHED-TTL:PT1H
BEGIN:VTIMEZONE
TZID:America/Denver
BEGIN:DAYLIGHT
TZOFFSETFROM:-0700
TZOFFSETTO:-0600
TZNAME:MDT
DTSTART:20240310T090000
END:DAYLIGHT
BEGIN:STANDARD
TZOFFSETFROM:-0600
TZOFFSETTO:-0700
TZNAME:MST
DTSTART:20241103T080000
END:STANDARD
BEGIN:DAYLIGHT
TZOFFSETFROM:-0700
TZOFFSETTO:-0600
TZNAME:MDT
DTSTART:20250309T090000
END:DAYLIGHT
BEGIN:STANDARD
TZOFFSETFROM:-0600
TZOFFSETTO:-0700
TZNAME:MST
DTSTART:20251102T080000
END:STANDARD
BEGIN:DAYLIGHT
TZOFFSETFROM:-0700
TZOFFSETTO:-0600
TZNAME:MDT
DTSTART:20260308T090000
END:DAYLIGHT
BEGIN:STANDARD
TZOFFSETFROM:-0600
TZOFFSETTO:-0700
TZNAME:MST
DTSTART:20261101T080000
END:STANDARD
END:VTIMEZONE
BEGIN:VEVENT
DTSTART;TZID=America/Denver:20250204T080000
DTEND;TZID=America/Denver:20250204T090000
DTSTAMP:20260424T051123
CREATED:20250114T182924Z
LAST-MODIFIED:20250114T182924Z
UID:4924-1738656000-1738659600@westyellowstonepubliclibrary.org
SUMMARY:Clases de Inglés
DESCRIPTION:
URL:https://westyellowstonepubliclibrary.org/event/clases-de-ingles-24/
LOCATION:West Yellowstone Public Library\, 23 Dunraven Street\, West Yellowstone\, MT\, 59758\, United States
CATEGORIES:Adult Events,Language Classes
END:VEVENT
BEGIN:VEVENT
DTSTART;TZID=America/Denver:20250206T150000
DTEND;TZID=America/Denver:20250206T160000
DTSTAMP:20260424T051123
CREATED:20250114T173528Z
LAST-MODIFIED:20250114T173528Z
UID:4907-1738854000-1738857600@westyellowstonepubliclibrary.org
SUMMARY:Tech Help Hour
DESCRIPTION:Come learn new skills and master your tech. Bring questions and concerns about iPhone or Windows PC and leave feeling more comfortable and confident with your technology. No sign up or registration needed. Just show up ready to learn! \nThursdays from 3:00-4:00pm
URL:https://westyellowstonepubliclibrary.org/event/tech-help-hour/
LOCATION:West Yellowstone Public Library\, 23 Dunraven Street\, West Yellowstone\, MT\, 59758\, United States
CATEGORIES:Adult Events,Technology Events
END:VEVENT
BEGIN:VEVENT
DTSTART;TZID=America/Denver:20250207T080000
DTEND;TZID=America/Denver:20250207T090000
DTSTAMP:20260424T051123
CREATED:20250115T002413Z
LAST-MODIFIED:20250115T002413Z
UID:4933-1738915200-1738918800@westyellowstonepubliclibrary.org
SUMMARY:Clases de Inglés
DESCRIPTION:
URL:https://westyellowstonepubliclibrary.org/event/clases-de-ingles-27/
LOCATION:West Yellowstone Public Library\, 23 Dunraven Street\, West Yellowstone\, MT\, 59758\, United States
CATEGORIES:Adult Events,Language Classes
END:VEVENT
BEGIN:VEVENT
DTSTART;TZID=America/Denver:20250207T153000
DTEND;TZID=America/Denver:20250207T180000
DTSTAMP:20260424T051123
CREATED:20250114T171822Z
LAST-MODIFIED:20250114T171822Z
UID:4897-1738942200-1738951200@westyellowstonepubliclibrary.org
SUMMARY:Board Game Meetup
DESCRIPTION:Join a friendly\, fun-loving community to play board and card games at the library! \nNo experience is necessary. We have chess sets and board games provided\, but feel free to bring in some favorites to share with others! Meet new friends\, socialize\, and learn new games from 3:30-6:00pm.
URL:https://westyellowstonepubliclibrary.org/event/board-game-meetup-25/
LOCATION:West Yellowstone Public Library\, 23 Dunraven Street\, West Yellowstone\, MT\, 59758\, United States
CATEGORIES:Adult Events,Games,Kids Events
END:VEVENT
BEGIN:VEVENT
DTSTART;TZID=America/Denver:20250211T080000
DTEND;TZID=America/Denver:20250211T090000
DTSTAMP:20260424T051123
CREATED:20250114T192229Z
LAST-MODIFIED:20250114T192229Z
UID:4927-1739260800-1739264400@westyellowstonepubliclibrary.org
SUMMARY:Clases de Inglés
DESCRIPTION:
URL:https://westyellowstonepubliclibrary.org/event/clases-de-ingles-25/
LOCATION:West Yellowstone Public Library\, 23 Dunraven Street\, West Yellowstone\, MT\, 59758\, United States
CATEGORIES:Adult Events,Language Classes
END:VEVENT
BEGIN:VEVENT
DTSTART;TZID=America/Denver:20250212T110000
DTEND;TZID=America/Denver:20250212T120000
DTSTAMP:20260424T051123
CREATED:20250208T171843Z
LAST-MODIFIED:20250208T171843Z
UID:5117-1739358000-1739361600@westyellowstonepubliclibrary.org
SUMMARY:Storytime
DESCRIPTION:Join us for Storytime on Wednesdays at 11:00am! Our storytime is perfect for ages 0-6 and includes songs\, activities\, and stories.
URL:https://westyellowstonepubliclibrary.org/event/storytime/
LOCATION:West Yellowstone Public Library\, 23 Dunraven Street\, West Yellowstone\, MT\, 59758\, United States
CATEGORIES:Kids Events,Literary Events
END:VEVENT
BEGIN:VEVENT
DTSTART;TZID=America/Denver:20250213T150000
DTEND;TZID=America/Denver:20250213T160000
DTSTAMP:20260424T051123
CREATED:20250114T175146Z
LAST-MODIFIED:20250114T175146Z
UID:4917-1739458800-1739462400@westyellowstonepubliclibrary.org
SUMMARY:Tech Help Hour
DESCRIPTION:Come learn new skills and master your tech. Bring questions and concerns about iPhone or Windows PC and leave feeling more comfortable and confident with your technology. No sign up or registration needed. Just show up ready to learn! \nThursdays from 3:00-4:00pm
URL:https://westyellowstonepubliclibrary.org/event/tech-help-hour-2/
LOCATION:West Yellowstone Public Library\, 23 Dunraven Street\, West Yellowstone\, MT\, 59758\, United States
CATEGORIES:Adult Events,Technology Events
END:VEVENT
BEGIN:VEVENT
DTSTART;TZID=America/Denver:20250214T080000
DTEND;TZID=America/Denver:20250214T090000
DTSTAMP:20260424T051123
CREATED:20250115T224807Z
LAST-MODIFIED:20250115T224807Z
UID:4940-1739520000-1739523600@westyellowstonepubliclibrary.org
SUMMARY:Clases de Inglés
DESCRIPTION:
URL:https://westyellowstonepubliclibrary.org/event/clases-de-ingles-28/
LOCATION:West Yellowstone Public Library\, 23 Dunraven Street\, West Yellowstone\, MT\, 59758\, United States
CATEGORIES:Adult Events,Language Classes
END:VEVENT
BEGIN:VEVENT
DTSTART;TZID=America/Denver:20250214T153000
DTEND;TZID=America/Denver:20250214T180000
DTSTAMP:20260424T051123
CREATED:20250114T171933Z
LAST-MODIFIED:20250114T171933Z
UID:4901-1739547000-1739556000@westyellowstonepubliclibrary.org
SUMMARY:Board Game Meetup
DESCRIPTION:Join a friendly\, fun-loving community to play board and card games at the library! \nNo experience is necessary. We have chess sets and board games provided\, but feel free to bring in some favorites to share with others! Meet new friends\, socialize\, and learn new games from 3:30-6:00pm.
URL:https://westyellowstonepubliclibrary.org/event/board-game-meetup-32/
LOCATION:West Yellowstone Public Library\, 23 Dunraven Street\, West Yellowstone\, MT\, 59758\, United States
CATEGORIES:Adult Events,Games,Kids Events
END:VEVENT
BEGIN:VEVENT
DTSTART;TZID=America/Denver:20250218T000000
DTEND;TZID=America/Denver:20250218T235959
DTSTAMP:20260424T051123
CREATED:20250115T225812Z
LAST-MODIFIED:20250117T001653Z
UID:4946-1739836800-1739923199@westyellowstonepubliclibrary.org
SUMMARY:Closed - President's Day
DESCRIPTION:
URL:https://westyellowstonepubliclibrary.org/event/presidents-day-observance-library-closed/
LOCATION:West Yellowstone Public Library\, 23 Dunraven Street\, West Yellowstone\, MT\, 59758\, United States
CATEGORIES:Library Closed
END:VEVENT
BEGIN:VEVENT
DTSTART;TZID=America/Denver:20250219T110000
DTEND;TZID=America/Denver:20250219T120000
DTSTAMP:20260424T051123
CREATED:20250208T172406Z
LAST-MODIFIED:20250212T165657Z
UID:5126-1739962800-1739966400@westyellowstonepubliclibrary.org
SUMMARY:Storytime
DESCRIPTION:Join us for Storytime on Wednesdays at 11:00am! Our storytime is perfect for ages 0-6 and includes songs\, activities\, and stories.
URL:https://westyellowstonepubliclibrary.org/event/storytime-2/
LOCATION:West Yellowstone Public Library\, 23 Dunraven Street\, West Yellowstone\, MT\, 59758\, United States
CATEGORIES:Kids Events,Literary Events
END:VEVENT
BEGIN:VEVENT
DTSTART;TZID=America/Denver:20250219T183000
DTEND;TZID=America/Denver:20250219T200000
DTSTAMP:20260424T051123
CREATED:20250110T222758Z
LAST-MODIFIED:20250110T222758Z
UID:4856-1739989800-1739995200@westyellowstonepubliclibrary.org
SUMMARY:Book Club Discussion
DESCRIPTION:We invite you to join us for a discussion of The Midnight Library by Matt Haig. The library will have copies available to check out and the discussion will take place on Wednesday February 19 at 6:30pm.
URL:https://westyellowstonepubliclibrary.org/event/book-club-discussion-6/
LOCATION:West Yellowstone Public Library\, 23 Dunraven Street\, West Yellowstone\, MT\, 59758\, United States
CATEGORIES:Adult Events,Book Discussion,Literary Events
END:VEVENT
BEGIN:VEVENT
DTSTART;TZID=America/Denver:20250220T150000
DTEND;TZID=America/Denver:20250220T160000
DTSTAMP:20260424T051123
CREATED:20250114T175228Z
LAST-MODIFIED:20250114T175228Z
UID:4920-1740063600-1740067200@westyellowstonepubliclibrary.org
SUMMARY:Tech Help Hour
DESCRIPTION:Come learn new skills and master your tech. Bring questions and concerns about iPhone or Windows PC and leave feeling more comfortable and confident with your technology. No sign up or registration needed. Just show up ready to learn! \nThursdays from 3:00-4:00pm
URL:https://westyellowstonepubliclibrary.org/event/tech-help-hour-3/
LOCATION:West Yellowstone Public Library\, 23 Dunraven Street\, West Yellowstone\, MT\, 59758\, United States
CATEGORIES:Adult Events,Technology Events
END:VEVENT
BEGIN:VEVENT
DTSTART;TZID=America/Denver:20250221T080000
DTEND;TZID=America/Denver:20250221T090000
DTSTAMP:20260424T051123
CREATED:20250115T224929Z
LAST-MODIFIED:20250115T224929Z
UID:4942-1740124800-1740128400@westyellowstonepubliclibrary.org
SUMMARY:Clases de Inglés
DESCRIPTION:
URL:https://westyellowstonepubliclibrary.org/event/clases-de-ingles-29/
LOCATION:West Yellowstone Public Library\, 23 Dunraven Street\, West Yellowstone\, MT\, 59758\, United States
CATEGORIES:Adult Events,Language Classes
END:VEVENT
BEGIN:VEVENT
DTSTART;TZID=America/Denver:20250221T153000
DTEND;TZID=America/Denver:20250221T180000
DTSTAMP:20260424T051123
CREATED:20250114T172042Z
LAST-MODIFIED:20250114T172042Z
UID:4903-1740151800-1740160800@westyellowstonepubliclibrary.org
SUMMARY:Board Game Meetup
DESCRIPTION:Join a friendly\, fun-loving community to play board and card games at the library! \nNo experience is necessary. We have chess sets and board games provided\, but feel free to bring in some favorites to share with others! Meet new friends\, socialize\, and learn new games from 3:30-6:00pm.
URL:https://westyellowstonepubliclibrary.org/event/board-game-meetup-33/
LOCATION:West Yellowstone Public Library\, 23 Dunraven Street\, West Yellowstone\, MT\, 59758\, United States
CATEGORIES:Adult Events,Games,Kids Events
END:VEVENT
BEGIN:VEVENT
DTSTART;TZID=America/Denver:20250225T080000
DTEND;TZID=America/Denver:20250225T090000
DTSTAMP:20260424T051123
CREATED:20250114T193000Z
LAST-MODIFIED:20250114T193000Z
UID:4930-1740470400-1740474000@westyellowstonepubliclibrary.org
SUMMARY:Clases de Inglés
DESCRIPTION:
URL:https://westyellowstonepubliclibrary.org/event/clases-de-ingles-26/
LOCATION:West Yellowstone Public Library\, 23 Dunraven Street\, West Yellowstone\, MT\, 59758\, United States
CATEGORIES:Adult Events,Language Classes
END:VEVENT
BEGIN:VEVENT
DTSTART;TZID=America/Denver:20250226T110000
DTEND;TZID=America/Denver:20250226T120000
DTSTAMP:20260424T051123
CREATED:20250208T172304Z
LAST-MODIFIED:20250208T172304Z
UID:5124-1740567600-1740571200@westyellowstonepubliclibrary.org
SUMMARY:Storytime
DESCRIPTION:Join us for Storytime on Wednesdays at 11:00am! Our storytime is perfect for ages 0-6 and includes songs\, activities\, and stories.
URL:https://westyellowstonepubliclibrary.org/event/storytime-3/
LOCATION:West Yellowstone Public Library\, 23 Dunraven Street\, West Yellowstone\, MT\, 59758\, United States
CATEGORIES:Kids Events,Literary Events
END:VEVENT
BEGIN:VEVENT
DTSTART;TZID=America/Denver:20250227T150000
DTEND;TZID=America/Denver:20250227T160000
DTSTAMP:20260424T051124
CREATED:20250114T175506Z
LAST-MODIFIED:20250114T175506Z
UID:4922-1740668400-1740672000@westyellowstonepubliclibrary.org
SUMMARY:Tech Help Hour
DESCRIPTION:Come learn new skills and master your tech. Bring questions and concerns about iPhone or Windows PC and leave feeling more comfortable and confident with your technology. No sign up or registration needed. Just show up ready to learn! \nThursdays from 3:00-4:00pm
URL:https://westyellowstonepubliclibrary.org/event/tech-help-hour-4/
LOCATION:West Yellowstone Public Library\, 23 Dunraven Street\, West Yellowstone\, MT\, 59758\, United States
CATEGORIES:Adult Events,Technology Events
END:VEVENT
BEGIN:VEVENT
DTSTART;TZID=America/Denver:20250228T080000
DTEND;TZID=America/Denver:20250228T090000
DTSTAMP:20260424T051124
CREATED:20250115T225028Z
LAST-MODIFIED:20250115T225028Z
UID:4944-1740729600-1740733200@westyellowstonepubliclibrary.org
SUMMARY:Clases de Inglés
DESCRIPTION:
URL:https://westyellowstonepubliclibrary.org/event/clases-de-ingles-30/
LOCATION:West Yellowstone Public Library\, 23 Dunraven Street\, West Yellowstone\, MT\, 59758\, United States
CATEGORIES:Adult Events,Language Classes
END:VEVENT
BEGIN:VEVENT
DTSTART;TZID=America/Denver:20250228T153000
DTEND;TZID=America/Denver:20250228T180000
DTSTAMP:20260424T051124
CREATED:20250114T172135Z
LAST-MODIFIED:20250114T172135Z
UID:4905-1740756600-1740765600@westyellowstonepubliclibrary.org
SUMMARY:Board Game Meetup
DESCRIPTION:Join a friendly\, fun-loving community to play board and card games at the library! \nNo experience is necessary. We have chess sets and board games provided\, but feel free to bring in some favorites to share with others! Meet new friends\, socialize\, and learn new games from 3:30-6:00pm.
URL:https://westyellowstonepubliclibrary.org/event/board-game-meetup-34/
LOCATION:West Yellowstone Public Library\, 23 Dunraven Street\, West Yellowstone\, MT\, 59758\, United States
CATEGORIES:Adult Events,Games,Kids Events
END:VEVENT
BEGIN:VEVENT
DTSTART;TZID=America/Denver:20250301T110000
DTEND;TZID=America/Denver:20250301T130000
DTSTAMP:20260424T051124
CREATED:20250212T165223Z
LAST-MODIFIED:20250212T165223Z
UID:5169-1740826800-1740834000@westyellowstonepubliclibrary.org
SUMMARY:Craft with a Cop
DESCRIPTION:Join us at the library to get to know your local officers and build memories with them! West Yellowstone law enforcement and dispatchers have put together this even in conjunction with the library to allow community members to interact with the officers and dispatch in a friendly and social environment. Special thanks to Home Depot of Bozeman\, West Yellowstone Public Library\, Town of West Yellowstone Public Services\, and the West Yellowstone Police Department for all coming together to make this event possible. Please click here to register for the event as spots are limited. We hope to see you there! \n 
URL:https://westyellowstonepubliclibrary.org/event/craft-with-a-cop/
LOCATION:West Yellowstone Public Library\, 23 Dunraven Street\, West Yellowstone\, MT\, 59758\, United States
CATEGORIES:Creative Events,Kids Events,Outreach
END:VEVENT
BEGIN:VEVENT
DTSTART;TZID=America/Denver:20250304T080000
DTEND;TZID=America/Denver:20250304T090000
DTSTAMP:20260424T051124
CREATED:20250221T213648Z
LAST-MODIFIED:20250221T214231Z
UID:5241-1741075200-1741078800@westyellowstonepubliclibrary.org
SUMMARY:Clases de Inglés
DESCRIPTION:
URL:https://westyellowstonepubliclibrary.org/event/clases-de-ingles-31/
LOCATION:West Yellowstone Public Library\, 23 Dunraven Street\, West Yellowstone\, MT\, 59758\, United States
CATEGORIES:Adult Events,Language Classes
END:VEVENT
BEGIN:VEVENT
DTSTART;TZID=America/Denver:20250305T110000
DTEND;TZID=America/Denver:20250305T120000
DTSTAMP:20260424T051124
CREATED:20250221T220550Z
LAST-MODIFIED:20250221T220550Z
UID:5267-1741172400-1741176000@westyellowstonepubliclibrary.org
SUMMARY:Storytime
DESCRIPTION:Join us for Storytime on Wednesdays at 11:00am! Our storytime is perfect for ages 0-6 and includes songs\, activities\, and stories.
URL:https://westyellowstonepubliclibrary.org/event/storytime-4/
LOCATION:West Yellowstone Public Library\, 23 Dunraven Street\, West Yellowstone\, MT\, 59758\, United States
CATEGORIES:Kids Events,Literary Events
END:VEVENT
BEGIN:VEVENT
DTSTART;TZID=America/Denver:20250306T090000
DTEND;TZID=America/Denver:20250306T100000
DTSTAMP:20260424T051124
CREATED:20250220T011913Z
LAST-MODIFIED:20250220T011913Z
UID:5218-1741251600-1741255200@westyellowstonepubliclibrary.org
SUMMARY:Spanish Class
DESCRIPTION:
URL:https://westyellowstonepubliclibrary.org/event/spanish-class-30/
LOCATION:West Yellowstone Public Library\, 23 Dunraven Street\, West Yellowstone\, MT\, 59758\, United States
CATEGORIES:Adult Events,Language Classes
END:VEVENT
BEGIN:VEVENT
DTSTART;TZID=America/Denver:20250306T150000
DTEND;TZID=America/Denver:20250306T160000
DTSTAMP:20260424T051124
CREATED:20250221T221912Z
LAST-MODIFIED:20250221T221912Z
UID:5283-1741273200-1741276800@westyellowstonepubliclibrary.org
SUMMARY:Tech Help Hour
DESCRIPTION:Come learn new skills and master your tech. Bring questions and concerns about iPhone or Windows PC and leave feeling more comfortable and confident with your technology. No sign up or registration needed. Just show up ready to learn! \nThursdays from 3:00-4:00pm
URL:https://westyellowstonepubliclibrary.org/event/tech-help-hour-5/
LOCATION:West Yellowstone Public Library\, 23 Dunraven Street\, West Yellowstone\, MT\, 59758\, United States
CATEGORIES:Adult Events,Technology Events
END:VEVENT
BEGIN:VEVENT
DTSTART;TZID=America/Denver:20250307T080000
DTEND;TZID=America/Denver:20250307T090000
DTSTAMP:20260424T051124
CREATED:20250221T214736Z
LAST-MODIFIED:20250221T214736Z
UID:5251-1741334400-1741338000@westyellowstonepubliclibrary.org
SUMMARY:Clases de Inglés
DESCRIPTION:
URL:https://westyellowstonepubliclibrary.org/event/clases-de-ingles-35/
LOCATION:West Yellowstone Public Library\, 23 Dunraven Street\, West Yellowstone\, MT\, 59758\, United States
CATEGORIES:Adult Events,Language Classes
END:VEVENT
BEGIN:VEVENT
DTSTART;TZID=America/Denver:20250307T153000
DTEND;TZID=America/Denver:20250307T180000
DTSTAMP:20260424T051124
CREATED:20250221T221409Z
LAST-MODIFIED:20250221T221409Z
UID:5275-1741361400-1741370400@westyellowstonepubliclibrary.org
SUMMARY:Board Game Meetup
DESCRIPTION:Join a friendly\, fun-loving community to play board and card games at the library! \nNo experience is necessary. We have chess sets and board games provided\, but feel free to bring in some favorites to share with others! Meet new friends\, socialize\, and learn new games from 3:30-6:00pm.
URL:https://westyellowstonepubliclibrary.org/event/board-game-meetup-35/
LOCATION:West Yellowstone Public Library\, 23 Dunraven Street\, West Yellowstone\, MT\, 59758\, United States
CATEGORIES:Adult Events,Kids Events,Teen Events
END:VEVENT
BEGIN:VEVENT
DTSTART;TZID=America/Denver:20250311T080000
DTEND;TZID=America/Denver:20250311T090000
DTSTAMP:20260424T051124
CREATED:20250221T213857Z
LAST-MODIFIED:20250221T213857Z
UID:5244-1741680000-1741683600@westyellowstonepubliclibrary.org
SUMMARY:Clases de Inglés
DESCRIPTION:
URL:https://westyellowstonepubliclibrary.org/event/clases-de-ingles-32/
LOCATION:West Yellowstone Public Library\, 23 Dunraven Street\, West Yellowstone\, MT\, 59758\, United States
CATEGORIES:Adult Events,Language Classes
END:VEVENT
BEGIN:VEVENT
DTSTART;TZID=America/Denver:20250312T110000
DTEND;TZID=America/Denver:20250312T120000
DTSTAMP:20260424T051124
CREATED:20250221T220639Z
LAST-MODIFIED:20250221T220639Z
UID:5269-1741777200-1741780800@westyellowstonepubliclibrary.org
SUMMARY:Storytime
DESCRIPTION:Join us for Storytime on Wednesdays at 11:00am! Our storytime is perfect for ages 0-6 and includes songs\, activities\, and stories.
URL:https://westyellowstonepubliclibrary.org/event/storytime-5/
LOCATION:West Yellowstone Public Library\, 23 Dunraven Street\, West Yellowstone\, MT\, 59758\, United States
CATEGORIES:Kids Events,Literary Events
END:VEVENT
BEGIN:VEVENT
DTSTART;TZID=America/Denver:20250313T090000
DTEND;TZID=America/Denver:20250313T100000
DTSTAMP:20260424T051124
CREATED:20250221T215608Z
LAST-MODIFIED:20250221T215608Z
UID:5260-1741856400-1741860000@westyellowstonepubliclibrary.org
SUMMARY:Spanish Class
DESCRIPTION:
URL:https://westyellowstonepubliclibrary.org/event/spanish-class-31/
LOCATION:West Yellowstone Public Library\, 23 Dunraven Street\, West Yellowstone\, MT\, 59758\, United States
CATEGORIES:Adult Events,Language Classes
END:VEVENT
END:VCALENDAR