BEGIN:VCALENDAR
VERSION:2.0
PRODID:-//West Yellowstone Public Library - ECPv6.15.20//NONSGML v1.0//EN
CALSCALE:GREGORIAN
METHOD:PUBLISH
X-WR-CALNAME:West Yellowstone Public Library
X-ORIGINAL-URL:https://westyellowstonepubliclibrary.org
X-WR-CALDESC:Events for West Yellowstone Public Library
REFRESH-INTERVAL;VALUE=DURATION:PT1H
X-Robots-Tag:noindex
X-PUBLISHED-TTL:PT1H
BEGIN:VTIMEZONE
TZID:America/Denver
BEGIN:DAYLIGHT
TZOFFSETFROM:-0700
TZOFFSETTO:-0600
TZNAME:MDT
DTSTART:20230312T090000
END:DAYLIGHT
BEGIN:STANDARD
TZOFFSETFROM:-0600
TZOFFSETTO:-0700
TZNAME:MST
DTSTART:20231105T080000
END:STANDARD
BEGIN:DAYLIGHT
TZOFFSETFROM:-0700
TZOFFSETTO:-0600
TZNAME:MDT
DTSTART:20240310T090000
END:DAYLIGHT
BEGIN:STANDARD
TZOFFSETFROM:-0600
TZOFFSETTO:-0700
TZNAME:MST
DTSTART:20241103T080000
END:STANDARD
BEGIN:DAYLIGHT
TZOFFSETFROM:-0700
TZOFFSETTO:-0600
TZNAME:MDT
DTSTART:20250309T090000
END:DAYLIGHT
BEGIN:STANDARD
TZOFFSETFROM:-0600
TZOFFSETTO:-0700
TZNAME:MST
DTSTART:20251102T080000
END:STANDARD
END:VTIMEZONE
BEGIN:VEVENT
DTSTART;TZID=America/Denver:20240514T151500
DTEND;TZID=America/Denver:20240514T161500
DTSTAMP:20260422T035424
CREATED:20240425T170422Z
LAST-MODIFIED:20240425T170422Z
UID:2784-1715699700-1715703300@westyellowstonepubliclibrary.org
SUMMARY:LEGO® Club - LAST DAY
DESCRIPTION:LAST DAY FOR SUMMER! \nJoin us for LEGO® Club in the Meeting Room at the library! \nWe supply the bricks\, you supply the imagination \nTuesdays – 3:15-4:15pm \nWe hope to see you there! We’ll return in September!
URL:https://westyellowstonepubliclibrary.org/event/lego-club-last-day/
LOCATION:West Yellowstone Public Library\, 23 Dunraven Street\, West Yellowstone\, MT\, 59758\, United States
END:VEVENT
BEGIN:VEVENT
DTSTART;TZID=America/Denver:20240513T170000
DTEND;TZID=America/Denver:20240513T180000
DTSTAMP:20260422T035424
CREATED:20240503T170715Z
LAST-MODIFIED:20240503T170715Z
UID:2908-1715619600-1715623200@westyellowstonepubliclibrary.org
SUMMARY:¡Clases de inglés gratis!
DESCRIPTION:
URL:https://westyellowstonepubliclibrary.org/event/clases-de-ingles-gratis-4/
LOCATION:West Yellowstone Public Library\, 23 Dunraven Street\, West Yellowstone\, MT\, 59758\, United States
CATEGORIES:Language Classes
END:VEVENT
BEGIN:VEVENT
DTSTART;TZID=America/Denver:20240510T153000
DTEND;TZID=America/Denver:20240510T173000
DTSTAMP:20260422T035424
CREATED:20240426T175845Z
LAST-MODIFIED:20240503T165508Z
UID:2820-1715355000-1715362200@westyellowstonepubliclibrary.org
SUMMARY:Chess Club & Board Games
DESCRIPTION:Join a friendly\, fun-loving community to play chess or board games at the library! \nNo experience is necessary. We have chess sets and board games provided\, but feel free to bring in some favorites to share with others! Meet new friends\, socialize\, and learn new games from 3:30-5:30pm.
URL:https://westyellowstonepubliclibrary.org/event/chess-club-board-games-3/
LOCATION:West Yellowstone Public Library\, 23 Dunraven Street\, West Yellowstone\, MT\, 59758\, United States
CATEGORIES:Games,Kids Events
END:VEVENT
BEGIN:VEVENT
DTSTART;TZID=America/Denver:20240509T120000
DTEND;TZID=America/Denver:20240509T140000
DTSTAMP:20260422T035424
CREATED:20240502T174849Z
LAST-MODIFIED:20240502T174849Z
UID:2880-1715256000-1715263200@westyellowstonepubliclibrary.org
SUMMARY:West Yellowstone Public Library Board of Trustees Meeting
DESCRIPTION:West Yellowstone Public Library Board of Trustees Meeting \nLibrary Meeting Room at 12:00pm \nOpen to Public
URL:https://westyellowstonepubliclibrary.org/event/west-yellowstone-public-library-board-of-trustees-meeting/
LOCATION:West Yellowstone Public Library\, 23 Dunraven Street\, West Yellowstone\, MT\, 59758\, United States
CATEGORIES:Board Meeting
END:VEVENT
BEGIN:VEVENT
DTSTART;TZID=America/Denver:20240509T080000
DTEND;TZID=America/Denver:20240509T090000
DTSTAMP:20260422T035424
CREATED:20240426T183256Z
LAST-MODIFIED:20240426T183256Z
UID:2835-1715241600-1715245200@westyellowstonepubliclibrary.org
SUMMARY:Spanish Class
DESCRIPTION:Have you been looking to pick up a new language or do you want to strengthen those skills you’ve begun working on? Then join us at the library to practice your Spanish with a fun group. Every Thursday 8:00-9:00am!
URL:https://westyellowstonepubliclibrary.org/event/spanish-class-3/
LOCATION:West Yellowstone Public Library\, 23 Dunraven Street\, West Yellowstone\, MT\, 59758\, United States
CATEGORIES:Language Classes
END:VEVENT
BEGIN:VEVENT
DTSTART;TZID=America/Denver:20240508T170000
DTEND;TZID=America/Denver:20240508T180000
DTSTAMP:20260422T035424
CREATED:20240503T170435Z
LAST-MODIFIED:20240503T170435Z
UID:2906-1715187600-1715191200@westyellowstonepubliclibrary.org
SUMMARY:¡Clases de inglés gratis!
DESCRIPTION:
URL:https://westyellowstonepubliclibrary.org/event/clases-de-ingles-gratis-3/
LOCATION:West Yellowstone Public Library\, 23 Dunraven Street\, West Yellowstone\, MT\, 59758\, United States
CATEGORIES:Language Classes
END:VEVENT
BEGIN:VEVENT
DTSTART;TZID=America/Denver:20240508T110000
DTEND;TZID=America/Denver:20240508T120000
DTSTAMP:20260422T035424
CREATED:20240425T173008Z
LAST-MODIFIED:20240425T173008Z
UID:2793-1715166000-1715169600@westyellowstonepubliclibrary.org
SUMMARY:Toddler & Preschool Storytime
DESCRIPTION:Bring your little ones to enjoy a fun morning with stories and activities with us at the library. \nWednesdays @ 11:00am
URL:https://westyellowstonepubliclibrary.org/event/toddler-preschool-storytime-20/
LOCATION:West Yellowstone Public Library\, 23 Dunraven Street\, West Yellowstone\, MT\, 59758\, United States
CATEGORIES:Kids Events,Literary Events
END:VEVENT
BEGIN:VEVENT
DTSTART;TZID=America/Denver:20240507T151500
DTEND;TZID=America/Denver:20240507T161500
DTSTAMP:20260422T035424
CREATED:20240425T170028Z
LAST-MODIFIED:20240425T170028Z
UID:2780-1715094900-1715098500@westyellowstonepubliclibrary.org
SUMMARY:LEGO® Club
DESCRIPTION:Join us for LEGO® Club in the Meeting Room at the library! \nWe supply the bricks\, you supply the imagination \nTuesdays – 3:15-4:15pm \n \nWe hope to see you there!
URL:https://westyellowstonepubliclibrary.org/event/lego-club-24/
LOCATION:West Yellowstone Public Library\, 23 Dunraven Street\, West Yellowstone\, MT\, 59758\, United States
CATEGORIES:Kids Events
END:VEVENT
BEGIN:VEVENT
DTSTART;TZID=America/Denver:20240507T080000
DTEND;TZID=America/Denver:20240507T090000
DTSTAMP:20260422T035424
CREATED:20240503T172105Z
LAST-MODIFIED:20240503T172105Z
UID:2923-1715068800-1715072400@westyellowstonepubliclibrary.org
SUMMARY:Spanish Class
DESCRIPTION:Have you been looking to pick up a new language or do you want to strengthen those skills you’ve begun working on? Then join us at the library to practice your Spanish with a fun group. Every Thursday 8:00-9:00am!
URL:https://westyellowstonepubliclibrary.org/event/spanish-class-7/
LOCATION:West Yellowstone Public Library\, 23 Dunraven Street\, West Yellowstone\, MT\, 59758\, United States
CATEGORIES:Language Classes
END:VEVENT
BEGIN:VEVENT
DTSTART;TZID=America/Denver:20240506T170000
DTEND;TZID=America/Denver:20240506T180000
DTSTAMP:20260422T035424
CREATED:20240503T170026Z
LAST-MODIFIED:20240503T170026Z
UID:2901-1715014800-1715018400@westyellowstonepubliclibrary.org
SUMMARY:¡Clases de inglés gratis!
DESCRIPTION:
URL:https://westyellowstonepubliclibrary.org/event/clases-de-ingles-gratis-2/
LOCATION:West Yellowstone Public Library\, 23 Dunraven Street\, West Yellowstone\, MT\, 59758\, United States
CATEGORIES:Language Classes
END:VEVENT
BEGIN:VEVENT
DTSTART;TZID=America/Denver:20240503T153000
DTEND;TZID=America/Denver:20240503T173000
DTSTAMP:20260422T035424
CREATED:20240426T175305Z
LAST-MODIFIED:20240503T165515Z
UID:2817-1714750200-1714757400@westyellowstonepubliclibrary.org
SUMMARY:Chess Club & Board Games
DESCRIPTION:Join a friendly\, fun-loving community to play chess or board games at the library! \nNo experience is necessary. We have chess sets and board games provided\, but feel free to bring in some favorites to share with others! Meet new friends\, socialize\, and learn new games from 3:30-5:30pm.
URL:https://westyellowstonepubliclibrary.org/event/chess-club-board-games-2/
LOCATION:West Yellowstone Public Library\, 23 Dunraven Street\, West Yellowstone\, MT\, 59758\, United States
CATEGORIES:Games,Kids Events
END:VEVENT
BEGIN:VEVENT
DTSTART;TZID=America/Denver:20240502T080000
DTEND;TZID=America/Denver:20240502T090000
DTSTAMP:20260422T035424
CREATED:20240426T182141Z
LAST-MODIFIED:20240426T182141Z
UID:2828-1714636800-1714640400@westyellowstonepubliclibrary.org
SUMMARY:Spanish Class
DESCRIPTION:Have you been looking to pick up a new language or do you want to strengthen those skills you’ve begun working on? Then join us at the library to practice your Spanish with a fun group. Every Thursday 8:00-9:00am!
URL:https://westyellowstonepubliclibrary.org/event/spanish-class-2/
LOCATION:West Yellowstone Public Library\, 23 Dunraven Street\, West Yellowstone\, MT\, 59758\, United States
CATEGORIES:Language Classes
END:VEVENT
BEGIN:VEVENT
DTSTART;TZID=America/Denver:20240501T110000
DTEND;TZID=America/Denver:20240501T120000
DTSTAMP:20260422T035424
CREATED:20240425T172155Z
LAST-MODIFIED:20240425T172155Z
UID:2788-1714561200-1714564800@westyellowstonepubliclibrary.org
SUMMARY:Toddler & Preschool Storytime
DESCRIPTION:Bring your little ones to enjoy a fun morning with stories and activities with us at the library. \nWednesdays @ 11:00am
URL:https://westyellowstonepubliclibrary.org/event/toddler-preschool-storytime-19/
LOCATION:West Yellowstone Public Library\, 23 Dunraven Street\, West Yellowstone\, MT\, 59758\, United States
CATEGORIES:Kids Events,Literary Events
END:VEVENT
BEGIN:VEVENT
DTSTART;TZID=America/Denver:20240430T151500
DTEND;TZID=America/Denver:20240430T161500
DTSTAMP:20260422T035424
CREATED:20240425T165230Z
LAST-MODIFIED:20240425T165230Z
UID:2774-1714490100-1714493700@westyellowstonepubliclibrary.org
SUMMARY:LEGO® Club
DESCRIPTION:Join us for LEGO® Club in the Meeting Room at the library! \nWe supply the bricks\, you supply the imagination \nTuesdays – 3:15-4:15pm \n \nWe hope to see you there!
URL:https://westyellowstonepubliclibrary.org/event/lego-club-23/
LOCATION:West Yellowstone Public Library\, 23 Dunraven Street\, West Yellowstone\, MT\, 59758\, United States
CATEGORIES:Kids Events
END:VEVENT
BEGIN:VEVENT
DTSTART;TZID=America/Denver:20240426T153000
DTEND;TZID=America/Denver:20240426T173000
DTSTAMP:20260422T035424
CREATED:20240426T174711Z
LAST-MODIFIED:20240503T165557Z
UID:2812-1714145400-1714152600@westyellowstonepubliclibrary.org
SUMMARY:Chess Club & Board Games
DESCRIPTION:Join a friendly\, fun-loving community to play chess or board games at the library! \nNo experience is necessary. We have chess sets and board games provided\, but feel free to bring in some favorites to share with others! Meet new friends\, socialize\, and learn new games from 3:30-5:30pm.
URL:https://westyellowstonepubliclibrary.org/event/chess-club-board-games/
LOCATION:West Yellowstone Public Library\, 23 Dunraven Street\, West Yellowstone\, MT\, 59758\, United States
CATEGORIES:Games,Kids Events
END:VEVENT
BEGIN:VEVENT
DTSTART;TZID=America/Denver:20240425T080000
DTEND;TZID=America/Denver:20240425T090000
DTSTAMP:20260422T035424
CREATED:20240313T184350Z
LAST-MODIFIED:20240313T184350Z
UID:2545-1714032000-1714035600@westyellowstonepubliclibrary.org
SUMMARY:Spanish Class
DESCRIPTION:Spanish Classes with Nubia Allen \nFor Adult Beginners and those needing a refresher \nThursdays mornings from 8:00 AM – 9:00 AM
URL:https://westyellowstonepubliclibrary.org/event/spanish-class/
LOCATION:West Yellowstone Public Library\, 23 Dunraven Street\, West Yellowstone\, MT\, 59758\, United States
CATEGORIES:Language Classes
END:VEVENT
BEGIN:VEVENT
DTSTART;TZID=America/Denver:20240424T170000
DTEND;TZID=America/Denver:20240424T180000
DTSTAMP:20260422T035424
CREATED:20240424T185541Z
LAST-MODIFIED:20240424T185541Z
UID:2763-1713978000-1713981600@westyellowstonepubliclibrary.org
SUMMARY:Clases de inglés gratis!
DESCRIPTION:Por favor\, únase a nosotros esta tarde para la clase gratuita de inglés en la sala de reuniones de la biblioteca. Se llevará a cabo de 5:00 a 6:00 pm \nPlease join us this evening for the free English language class in the library meeting room. It takes place from 5:00 – 6:00 pm
URL:https://westyellowstonepubliclibrary.org/event/clases-de-ingles-gratis/
LOCATION:MT
END:VEVENT
BEGIN:VEVENT
DTSTART;VALUE=DATE:20240420
DTEND;VALUE=DATE:20240421
DTSTAMP:20260422T035424
CREATED:20240214T181616Z
LAST-MODIFIED:20240214T181616Z
UID:2267-1713571200-1713657599@westyellowstonepubliclibrary.org
SUMMARY:LIBRARY CLOSED FOR STAFF TRAINING
DESCRIPTION:Library Closed for Staff Training \nApril 16 – 20\, 2024
URL:https://westyellowstonepubliclibrary.org/event/library-closed-for-staff-training-5/
LOCATION:MT
CATEGORIES:Library Closed
END:VEVENT
BEGIN:VEVENT
DTSTART;VALUE=DATE:20240419
DTEND;VALUE=DATE:20240420
DTSTAMP:20260422T035424
CREATED:20240214T181528Z
LAST-MODIFIED:20240214T181528Z
UID:2264-1713484800-1713571199@westyellowstonepubliclibrary.org
SUMMARY:LIBRARY CLOSED FOR STAFF TRAINING
DESCRIPTION:Library Closed for Staff Training \nApril 16 – 20\, 2024
URL:https://westyellowstonepubliclibrary.org/event/library-closed-for-staff-training-4/
LOCATION:MT
CATEGORIES:Library Closed
END:VEVENT
BEGIN:VEVENT
DTSTART;VALUE=DATE:20240418
DTEND;VALUE=DATE:20240419
DTSTAMP:20260422T035424
CREATED:20240214T181444Z
LAST-MODIFIED:20240214T181444Z
UID:2261-1713398400-1713484799@westyellowstonepubliclibrary.org
SUMMARY:LIBRARY CLOSED FOR STAFF TRAINING
DESCRIPTION:Library Closed for Staff Training \nApril 16 – 20\, 2024
URL:https://westyellowstonepubliclibrary.org/event/library-closed-for-staff-training-3/
LOCATION:MT
CATEGORIES:Library Closed
END:VEVENT
BEGIN:VEVENT
DTSTART;VALUE=DATE:20240417
DTEND;VALUE=DATE:20240418
DTSTAMP:20260422T035424
CREATED:20240214T181339Z
LAST-MODIFIED:20240214T181339Z
UID:2258-1713312000-1713398399@westyellowstonepubliclibrary.org
SUMMARY:LIBRARY CLOSED FOR STAFF TRAINING
DESCRIPTION:Library Closed for Staff Training \nApril 16 – 20\, 2024
URL:https://westyellowstonepubliclibrary.org/event/library-closed-for-staff-training-2/
LOCATION:MT
CATEGORIES:Library Closed
END:VEVENT
BEGIN:VEVENT
DTSTART;VALUE=DATE:20240416
DTEND;VALUE=DATE:20240417
DTSTAMP:20260422T035424
CREATED:20240308T230337Z
LAST-MODIFIED:20240312T175419Z
UID:2474-1713225600-1713311999@westyellowstonepubliclibrary.org
SUMMARY:NO LEGO CLUB THIS WEEK
DESCRIPTION:No LEGO club this week. Library closed this week for staff training. See you next week!
URL:https://westyellowstonepubliclibrary.org/event/no-lego-club-this-week-2/
LOCATION:West Yellowstone Public Library\, 23 Dunraven Street\, West Yellowstone\, MT\, 59758\, United States
CATEGORIES:Library Closed
END:VEVENT
BEGIN:VEVENT
DTSTART;VALUE=DATE:20240416
DTEND;VALUE=DATE:20240417
DTSTAMP:20260422T035424
CREATED:20240214T180829Z
LAST-MODIFIED:20240214T181230Z
UID:2252-1713225600-1713311999@westyellowstonepubliclibrary.org
SUMMARY:LIBRARY CLOSED FOR STAFF TRAINING
DESCRIPTION:Library Closed for Staff Training \nApril 16 – 20\, 2024
URL:https://westyellowstonepubliclibrary.org/event/library-closed-for-staff-training/
LOCATION:West Yellowstone Public Library\, 23 Dunraven Street\, West Yellowstone\, MT\, 59758\, United States
CATEGORIES:Library Closed
END:VEVENT
BEGIN:VEVENT
DTSTART;TZID=America/Denver:20240413T143000
DTEND;TZID=America/Denver:20240413T153000
DTSTAMP:20260422T035424
CREATED:20240312T175033Z
LAST-MODIFIED:20240312T175314Z
UID:2523-1713018600-1713022200@westyellowstonepubliclibrary.org
SUMMARY:Free Family Magic Show with Magician Walt Woolbaugh
DESCRIPTION:Free Family Magic Show with Magician Walt Woolbaugh \nFun for all! Magic\, Music\, Comedy! Audience Participation\, Live Doves\, and a Magical Rabbit! \nSaturday\, April 13th at 2:30 PM \nWest Yellowstone Public Library
URL:https://westyellowstonepubliclibrary.org/event/free-family-magic-show-with-magician-walt-woolbaugh/
LOCATION:West Yellowstone Public Library\, 23 Dunraven Street\, West Yellowstone\, MT\, 59758\, United States
CATEGORIES:Guest Presenter,Kids Events
END:VEVENT
BEGIN:VEVENT
DTSTART;VALUE=DATE:20240402
DTEND;VALUE=DATE:20240403
DTSTAMP:20260422T035424
CREATED:20240307T174149Z
LAST-MODIFIED:20240312T175503Z
UID:2441-1712016000-1712102399@westyellowstonepubliclibrary.org
SUMMARY:NO LEGO CLUB
DESCRIPTION:No LEGO club this week. Enjoy your spring break.
URL:https://westyellowstonepubliclibrary.org/event/no-lego-club-2/
LOCATION:West Yellowstone Public Library\, 23 Dunraven Street\, West Yellowstone\, MT\, 59758\, United States
CATEGORIES:Kids Events
END:VEVENT
BEGIN:VEVENT
DTSTART;TZID=America/Denver:20240329T153000
DTEND;TZID=America/Denver:20240329T180000
DTSTAMP:20260422T035424
CREATED:20240313T184141Z
LAST-MODIFIED:20240313T184141Z
UID:2543-1711726200-1711735200@westyellowstonepubliclibrary.org
SUMMARY:Chess & Boardgames
DESCRIPTION:Join us for chess and boardgames!\nCome to the West Yellowstone Public Library on Fridays from 3:30 PM – 6:00 PM.\nNo experience is necessary and everyone is welcome. Some chess sets and board games will be provided. Feel free to bring your own chess board and other board games.
URL:https://westyellowstonepubliclibrary.org/event/chess-boardgames-3/
LOCATION:West Yellowstone Public Library\, 23 Dunraven Street\, West Yellowstone\, MT\, 59758\, United States
CATEGORIES:Games,Kids Events
END:VEVENT
BEGIN:VEVENT
DTSTART;TZID=America/Denver:20240329T080000
DTEND;TZID=America/Denver:20240329T090000
DTSTAMP:20260422T035424
CREATED:20240308T225743Z
LAST-MODIFIED:20240308T225743Z
UID:2471-1711699200-1711702800@westyellowstonepubliclibrary.org
SUMMARY:Free Spanish to English Class
DESCRIPTION:Free Spanish to English Classes \nTuesdays and Fridays \n8:00 AM \n 
URL:https://westyellowstonepubliclibrary.org/event/free-spanish-to-english-class-22/
LOCATION:West Yellowstone Public Library\, 23 Dunraven Street\, West Yellowstone\, MT\, 59758\, United States
CATEGORIES:Language Classes
END:VEVENT
BEGIN:VEVENT
DTSTART;TZID=America/Denver:20240327T180000
DTEND;TZID=America/Denver:20240327T200000
DTSTAMP:20260422T035424
CREATED:20240305T160130Z
LAST-MODIFIED:20240305T160130Z
UID:2414-1711562400-1711569600@westyellowstonepubliclibrary.org
SUMMARY:Cookin' the Books: Tasting History by Max Miller
DESCRIPTION:Cookin’ the Books: Tasting History by Max Miller \nA book club for those that love to cook! Come to the library and sign up to prepare a dish from Tasting History\, either the book or the YouTube series. \nBring your chosen dish to share on Wednesday\, March 27th at 6:00 PM.
URL:https://westyellowstonepubliclibrary.org/event/cookin-the-books-tasting-history-by-max-miller/
LOCATION:West Yellowstone Public Library\, 23 Dunraven Street\, West Yellowstone\, MT\, 59758\, United States
CATEGORIES:Culinary Events,Literary Events
END:VEVENT
BEGIN:VEVENT
DTSTART;TZID=America/Denver:20240327T110000
DTEND;TZID=America/Denver:20240327T120000
DTSTAMP:20260422T035424
CREATED:20240313T183758Z
LAST-MODIFIED:20240313T183758Z
UID:2539-1711537200-1711540800@westyellowstonepubliclibrary.org
SUMMARY:Toddler / Preschool Storytime
DESCRIPTION:Toddler / Preschool Storytime \nWednesdays \n11:00 AM
URL:https://westyellowstonepubliclibrary.org/event/toddler-preschool-storytime-18/
LOCATION:West Yellowstone Public Library\, 23 Dunraven Street\, West Yellowstone\, MT\, 59758\, United States
CATEGORIES:Kids Events,Literary Events
END:VEVENT
BEGIN:VEVENT
DTSTART;TZID=America/Denver:20240326T151500
DTEND;TZID=America/Denver:20240326T161500
DTSTAMP:20260422T035424
CREATED:20240313T183445Z
LAST-MODIFIED:20240313T183445Z
UID:2535-1711466100-1711469700@westyellowstonepubliclibrary.org
SUMMARY:LEGO Club
DESCRIPTION:LEGO Club \nTuesdays \n3:15 pm – 4:15 pm \n 
URL:https://westyellowstonepubliclibrary.org/event/lego-club-22/
LOCATION:West Yellowstone Public Library\, 23 Dunraven Street\, West Yellowstone\, MT\, 59758\, United States
CATEGORIES:Kids Events
END:VEVENT
END:VCALENDAR